BEGIN:VCALENDAR
VERSION:2.0
PRODID:-//Fairchild AFB - ECPv6.15.20//NONSGML v1.0//EN
CALSCALE:GREGORIAN
METHOD:PUBLISH
X-WR-CALNAME:Fairchild AFB
X-ORIGINAL-URL:https://fairchildfun.com
X-WR-CALDESC:Events for Fairchild AFB
REFRESH-INTERVAL;VALUE=DURATION:PT1H
X-Robots-Tag:noindex
X-PUBLISHED-TTL:PT1H
BEGIN:VTIMEZONE
TZID:America/Los_Angeles
BEGIN:DAYLIGHT
TZOFFSETFROM:-0800
TZOFFSETTO:-0700
TZNAME:PDT
DTSTART:20250309T100000
END:DAYLIGHT
BEGIN:STANDARD
TZOFFSETFROM:-0700
TZOFFSETTO:-0800
TZNAME:PST
DTSTART:20251102T090000
END:STANDARD
BEGIN:DAYLIGHT
TZOFFSETFROM:-0800
TZOFFSETTO:-0700
TZNAME:PDT
DTSTART:20260308T100000
END:DAYLIGHT
BEGIN:STANDARD
TZOFFSETFROM:-0700
TZOFFSETTO:-0800
TZNAME:PST
DTSTART:20261101T090000
END:STANDARD
BEGIN:DAYLIGHT
TZOFFSETFROM:-0800
TZOFFSETTO:-0700
TZNAME:PDT
DTSTART:20270314T100000
END:DAYLIGHT
BEGIN:STANDARD
TZOFFSETFROM:-0700
TZOFFSETTO:-0800
TZNAME:PST
DTSTART:20271107T090000
END:STANDARD
END:VTIMEZONE
BEGIN:VEVENT
DTSTART;TZID=America/Los_Angeles:20260516T103000
DTEND;TZID=America/Los_Angeles:20260516T140000
DTSTAMP:20260423T080549
CREATED:20260421T223953Z
LAST-MODIFIED:20260421T224017Z
UID:10001775-1778927400-1778940000@fairchildfun.com
SUMMARY:Magic Wand Turning Class
DESCRIPTION:Skip the store—make your own magic. In this fun\, beginner-friendly class\, you’ll use a wood lathe to turn a simple piece of wood into a one-of-a-kind magic wand. \nPerfect for kids\, parents\, or anyone looking for a creative experience\, this class is all about making something unique while having a little fun along the way. \nClass Details\nWhen: Saturday\, May 16\nTime: 10:30 AM – 2 PM\nLocation: Wood Craft Center (610 N. Depot Ave)\nCost: $15 (materials included) \nWho Can Participate\n• Open to DoD ID card holders ages 12+\n• Ages 12–17 must be accompanied by a parent/guardian\n• Guardians do not need to register unless they plan to participate \nWhat You’ll Learn\n• Basic wood lathe operation and safety\n• How to shape and finish a custom wand\n• Creative techniques to make your wand unique \nWhy Take This Class\n• Fun\, low-pressure introduction to woodworking\n• Great parent/child or family activity\n• Each wand is completely one of a kind\n• A creative project you’ll actually keep \nRegistration\nRegister in person or call 509-247-5189\nPayment due at sign-up | Class size limited to 6 \nAll participants must follow safety protocols.
URL:https://fairchildfun.com/event/magic-wand-turning-class/
CATEGORIES:18+,Wood Craft Center
ATTACH;FMTTYPE=image/jpeg:https://fairchildfun.com/wp-content/uploads/2026/04/Wood-Wand-Class-May-Event.jpg
END:VEVENT
END:VCALENDAR