BEGIN:VCALENDAR
VERSION:2.0
PRODID:-//Fairchild AFB - ECPv6.15.20//NONSGML v1.0//EN
CALSCALE:GREGORIAN
METHOD:PUBLISH
X-WR-CALNAME:Fairchild AFB
X-ORIGINAL-URL:https://fairchildfun.com
X-WR-CALDESC:Events for Fairchild AFB
REFRESH-INTERVAL;VALUE=DURATION:PT1H
X-Robots-Tag:noindex
X-PUBLISHED-TTL:PT1H
BEGIN:VTIMEZONE
TZID:America/Los_Angeles
BEGIN:DAYLIGHT
TZOFFSETFROM:-0800
TZOFFSETTO:-0700
TZNAME:PDT
DTSTART:20250309T100000
END:DAYLIGHT
BEGIN:STANDARD
TZOFFSETFROM:-0700
TZOFFSETTO:-0800
TZNAME:PST
DTSTART:20251102T090000
END:STANDARD
BEGIN:DAYLIGHT
TZOFFSETFROM:-0800
TZOFFSETTO:-0700
TZNAME:PDT
DTSTART:20260308T100000
END:DAYLIGHT
BEGIN:STANDARD
TZOFFSETFROM:-0700
TZOFFSETTO:-0800
TZNAME:PST
DTSTART:20261101T090000
END:STANDARD
BEGIN:DAYLIGHT
TZOFFSETFROM:-0800
TZOFFSETTO:-0700
TZNAME:PDT
DTSTART:20270314T100000
END:DAYLIGHT
BEGIN:STANDARD
TZOFFSETFROM:-0700
TZOFFSETTO:-0800
TZNAME:PST
DTSTART:20271107T090000
END:STANDARD
END:VTIMEZONE
BEGIN:VEVENT
DTSTART;TZID=America/Los_Angeles:20260522T180000
DTEND;TZID=America/Los_Angeles:20260522T210000
DTSTAMP:20260423T033731
CREATED:20260413T202450Z
LAST-MODIFIED:20260413T202450Z
UID:10001767-1779472800-1779483600@fairchildfun.com
SUMMARY:Cosmic Bowling After Hours
DESCRIPTION:Cosmic Bowling After Hours \nWhen the lights go down\, the lanes light up—Cosmic Bowling After Hours brings neon glow\, music\, and an out-of-this-world vibe. It’s the perfect night out with friends\, a laid-back date night\, or something different to kick off your weekend. \nEnjoy extended evening hours with bowling\, music\, and a relaxed\, high-energy atmosphere. A limited Alder House menu will be available after 7 PM\, so you can grab a bite while you play. \nWhether you’re aiming for strikes or just here for the fun\, Cosmic Bowling is all about the experience. \n———- \nEvent Details \nDate: May 22\nTime: 6–9 PM\nLocation: The Alley (Red Morgan Community Center\, Back Entrance)\nOpen to all with base access \n———- \nPricing\n$10 per person\n$27 per lane (3+ people)\n$3 shoe rentals \n———- \nFood & Drinks\nLimited Alder House menu available after 7 PM \n———- \nMark your calendars for the next Cosmic Bowling night on June 26. \nOuter space is vast—but lanes at The Alley are limited! Want to lock in your spot before liftoff? Call ahead to reserve your lane. Be sure to arrive on time\, as reservations may be forfeited during busy periods. \nFor questions or to reserve your lane\, call Red Morgan at 509-247-1800.
URL:https://fairchildfun.com/event/cosmic-bowling-after-hours/
CATEGORIES:Family,Hot Events,Red Morgan Community Center
ATTACH;FMTTYPE=image/jpeg:https://fairchildfun.com/wp-content/uploads/2026/04/Cosmic-Bowling-Green-Event.jpg
END:VEVENT
BEGIN:VEVENT
DTSTART;TZID=America/Los_Angeles:20260626T180000
DTEND;TZID=America/Los_Angeles:20260626T210000
DTSTAMP:20260423T033731
CREATED:20260413T202709Z
LAST-MODIFIED:20260413T202801Z
UID:10001768-1782496800-1782507600@fairchildfun.com
SUMMARY:Cosmic Bowling After Hours
DESCRIPTION:Turn down the lights and turn up the energy—Cosmic Bowling transforms The Alley into a glowing\, high-energy experience with neon lights\, music\, and a vibe that’s anything but ordinary. It’s an easy way to get out\, have fun\, and do something different on a Friday night. \nWhether you’re rolling in with friends\, planning a casual date night\, or just looking for a laid-back way to unwind\, Cosmic Bowling delivers a fun\, no-pressure atmosphere with a unique after-hours feel. \nEnjoy extended evening bowling with music and glowing lanes. A limited Alder House menu will be available after 7 PM\, so you can grab a bite without missing a frame. \nFrom first roll to final strike\, it’s all about the experience. \n———- \nEvent Details \nDate: June 26\nTime: 6–9 PM\nLocation: The Alley (Red Morgan Community Center\, Back Entrance)\nOpen to all with base access \n———- \nPricing\n$10 per person\n$27 per lane (3+ people)\n$3 shoe rentals \n———- \nFood & Drinks\nLimited Alder House menu available after 7 PM \n———- \nSpace is limited—reserve your lane before you roll in! Call ahead to secure your spot. Please arrive on time\, as reservations may be forfeited during busy periods. \nFor questions or to reserve your lane\, call Red Morgan at 509-247-1800.
URL:https://fairchildfun.com/event/cosmic-bowling-after-hours-2/
CATEGORIES:Family,Hot Events,Red Morgan Community Center
ATTACH;FMTTYPE=image/jpeg:https://fairchildfun.com/wp-content/uploads/2026/04/Cosmic-Bowling-Orange-Event.jpg
END:VEVENT
END:VCALENDAR