BEGIN:VCALENDAR
VERSION:2.0
PRODID:-//Fairchild AFB - ECPv6.15.20//NONSGML v1.0//EN
CALSCALE:GREGORIAN
METHOD:PUBLISH
X-ORIGINAL-URL:https://fairchildfun.com
X-WR-CALDESC:Events for Fairchild AFB
REFRESH-INTERVAL;VALUE=DURATION:PT1H
X-Robots-Tag:noindex
X-PUBLISHED-TTL:PT1H
BEGIN:VTIMEZONE
TZID:America/Los_Angeles
BEGIN:DAYLIGHT
TZOFFSETFROM:-0800
TZOFFSETTO:-0700
TZNAME:PDT
DTSTART:20250309T100000
END:DAYLIGHT
BEGIN:STANDARD
TZOFFSETFROM:-0700
TZOFFSETTO:-0800
TZNAME:PST
DTSTART:20251102T090000
END:STANDARD
BEGIN:DAYLIGHT
TZOFFSETFROM:-0800
TZOFFSETTO:-0700
TZNAME:PDT
DTSTART:20260308T100000
END:DAYLIGHT
BEGIN:STANDARD
TZOFFSETFROM:-0700
TZOFFSETTO:-0800
TZNAME:PST
DTSTART:20261101T090000
END:STANDARD
BEGIN:DAYLIGHT
TZOFFSETFROM:-0800
TZOFFSETTO:-0700
TZNAME:PDT
DTSTART:20270314T100000
END:DAYLIGHT
BEGIN:STANDARD
TZOFFSETFROM:-0700
TZOFFSETTO:-0800
TZNAME:PST
DTSTART:20271107T090000
END:STANDARD
END:VTIMEZONE
BEGIN:VEVENT
DTSTART;TZID=America/Los_Angeles:20260612T080000
DTEND;TZID=America/Los_Angeles:20260612T090000
DTSTAMP:20260420T161657
CREATED:20260420T165026Z
LAST-MODIFIED:20260420T165251Z
UID:10001770-1781251200-1781254800@fairchildfun.com
SUMMARY:Donut Dash 5K – A Sweet Tradition with Military Roots
DESCRIPTION:Celebrate National Donut Day with a fun\, free walk/run that brings together community\, fitness\, and a unique piece of American history. \nThe Donut Dash isn’t just about the miles—it’s about the meaning behind the treat. During World War I\, volunteers known as the “Donut Lassies” served fresh donuts to U.S. soldiers in France\, boosting morale and bringing a taste of home to the front lines. Today\, we continue that tradition—one lap (and donut) at a time. \nEvent Details:\nDate: Friday\, June 12\nTime: 8–9 AM\nLocation: Start at Warrior Park (across from the Fitness Center) and follow the outdoor track\n————–\nCost: FREE (no registration required—just show up!)\nWho Can Join: Open to all Team Fairchild members with base access—military\, civilians\, and families of all ages\n————–\nHow It Works:\n3/4 Mile Per Lap\nComplete 1–4 Laps (up to 3 miles total)\nEarn a donut each lap!\nWalk\, jog\, or run at your own pace—this event is all about having fun and enjoying the experience.\n————–\nWhat to Expect:\nFREE donuts & light refreshments (while supplies last)\nFun photo opportunities—dress up encouraged!\nFirst 50 participants receive a FREE collector’s pin\n————-\nBonus Fitness Perks:\nYour distance counts toward the Commit to Be Fit Program\, and participants may qualify for the 6×5 Endurance Boost Challenge Coin. Learn more at fairchildfun.com.\n————-\nWhy Donuts?\nNational Donut Day was established in 1938 by The Salvation Army to honor the volunteers who served donuts to soldiers during WWI. These small acts of kindness became a powerful symbol of comfort\, connection\, and morale—something we’re proud to celebrate today.\n————-\nQuestions?\nCall the Fitness Center at 509-247-2792
URL:https://fairchildfun.com/event/donut-dash-5k-a-sweet-tradition-with-military-roots/
CATEGORIES:Fitness Center,Food,Free,Hot Events,Just Show Up
ATTACH;FMTTYPE=image/jpeg:https://fairchildfun.com/wp-content/uploads/2026/04/Fitness-5k-Donut-Dash-Event.jpg
END:VEVENT
END:VCALENDAR